BEGIN:VCALENDAR
VERSION:2.0
PRODID:-//Eruvaaka Foundation - ECPv6.15.11//NONSGML v1.0//EN
CALSCALE:GREGORIAN
METHOD:PUBLISH
X-ORIGINAL-URL:https://eruvaakafoundation.com
X-WR-CALDESC:Events for Eruvaaka Foundation
REFRESH-INTERVAL;VALUE=DURATION:PT1H
X-Robots-Tag:noindex
X-PUBLISHED-TTL:PT1H
BEGIN:VTIMEZONE
TZID:Asia/Kolkata
BEGIN:STANDARD
TZOFFSETFROM:+0530
TZOFFSETTO:+0530
TZNAME:IST
DTSTART:20220101T000000
END:STANDARD
END:VTIMEZONE
BEGIN:VEVENT
DTSTART;TZID=Asia/Kolkata:20231013T053000
DTEND;TZID=Asia/Kolkata:20231014T052900
DTSTAMP:20260425T214150
CREATED:20200428T075335Z
LAST-MODIFIED:20231014T122721Z
UID:1870-1697175000-1697261340@eruvaakafoundation.com
SUMMARY:Eruvaaka Foundation Awards 2023\, AP
DESCRIPTION:COMING SOON!
URL:https://eruvaakafoundation.com/event/eruvaaka-foundation-awards-2024-ap/
LOCATION:Videos
ATTACH;FMTTYPE=image/png:https://eruvaakafoundation.com/wp-content/uploads/2023/01/cropped-Original-Logo-PNG-1.png
END:VEVENT
BEGIN:VEVENT
DTSTART;VALUE=DATE:20240120
DTEND;VALUE=DATE:20240123
DTSTAMP:20260425T214150
CREATED:20200428T083523Z
LAST-MODIFIED:20240118T124651Z
UID:1874-1705728600-1705901399@eruvaakafoundation.com
SUMMARY:Eruvaaka Foundation Awards 2023\, Telangana
DESCRIPTION:Eruvaaka Foundation Awards 2023\, Telangana
URL:https://eruvaakafoundation.com/event/eruvaaka-foundation-awards-2024-telangana/
LOCATION:Malla Reddy University\, HC7W+X82\, Maisammaguda\, Dulapally\, Hyderabad\, Telangana\, 500043\, India
ATTACH;FMTTYPE=image/jpeg:https://eruvaakafoundation.com/wp-content/uploads/2020/04/WhatsApp-Image-2024-01-16-at-10.33.21-AM.jpeg
ORGANIZER;CN="Eruvaaka Foundation":MAILTO:info@eruvaaka.com
END:VEVENT
BEGIN:VEVENT
DTSTART;TZID=Asia/Kolkata:20241219T090000
DTEND;TZID=Asia/Kolkata:20241220T170000
DTSTAMP:20260425T214150
CREATED:20241203T115346Z
LAST-MODIFIED:20241203T120940Z
UID:19883-1734598800-1734714000@eruvaakafoundation.com
SUMMARY:Eruvaaka Foundation Kisan Mahotsav 2024\, Andhra Pradesh
DESCRIPTION:
URL:https://eruvaakafoundation.com/event/eruvaaka-foundation-kisan-mahotsav-2024-andhra-pradesh/
LOCATION:KL University\, Vaddeswaram\, Guntur District\, Andhra Pradesh\, 522502\, India
ORGANIZER;CN="Eruvaaka Foundation":MAILTO:info@eruvaaka.com
END:VEVENT
END:VCALENDAR